BEGIN:VCALENDAR
VERSION:2.0
PRODID:-//Spirit &amp; Truth Lighthouse - ECPv6.15.20//NONSGML v1.0//EN
CALSCALE:GREGORIAN
METHOD:PUBLISH
X-ORIGINAL-URL:https://www.stlh.org
X-WR-CALDESC:Events for Spirit &amp; Truth Lighthouse
REFRESH-INTERVAL;VALUE=DURATION:PT1H
X-Robots-Tag:noindex
X-PUBLISHED-TTL:PT1H
BEGIN:VTIMEZONE
TZID:America/Denver
BEGIN:DAYLIGHT
TZOFFSETFROM:-0700
TZOFFSETTO:-0600
TZNAME:MDT
DTSTART:20240310T090000
END:DAYLIGHT
BEGIN:STANDARD
TZOFFSETFROM:-0600
TZOFFSETTO:-0700
TZNAME:MST
DTSTART:20241103T080000
END:STANDARD
BEGIN:DAYLIGHT
TZOFFSETFROM:-0700
TZOFFSETTO:-0600
TZNAME:MDT
DTSTART:20250309T090000
END:DAYLIGHT
BEGIN:STANDARD
TZOFFSETFROM:-0600
TZOFFSETTO:-0700
TZNAME:MST
DTSTART:20251102T080000
END:STANDARD
BEGIN:DAYLIGHT
TZOFFSETFROM:-0700
TZOFFSETTO:-0600
TZNAME:MDT
DTSTART:20260308T090000
END:DAYLIGHT
BEGIN:STANDARD
TZOFFSETFROM:-0600
TZOFFSETTO:-0700
TZNAME:MST
DTSTART:20261101T080000
END:STANDARD
END:VTIMEZONE
BEGIN:VEVENT
DTSTART;TZID=America/Denver:20250516T180000
DTEND;TZID=America/Denver:20250516T200000
DTSTAMP:20260424T043628
CREATED:20250513T042636Z
LAST-MODIFIED:20250513T201227Z
UID:931-1747418400-1747425600@www.stlh.org
SUMMARY:Bonefire at Doheny Beach
DESCRIPTION:
URL:https://www.stlh.org/event/bonefire-at-doheny-beach/
LOCATION:Doheny Beach\, 25300 Dana Point Harbor Dr\, Dana Point\, CA\, 92629\, United States
CATEGORIES:Events
ATTACH;FMTTYPE=image/png:https://www.stlh.org/wp-content/uploads/2025/05/Bonfire2025-N-L.png
ORGANIZER;CN="Spirit & Truth Lighthouse":MAILTO:info@stlh.org
END:VEVENT
END:VCALENDAR