BEGIN:VCALENDAR
VERSION:2.0
PRODID:-//Spirit &amp; Truth Lighthouse - ECPv6.15.20//NONSGML v1.0//EN
CALSCALE:GREGORIAN
METHOD:PUBLISH
X-ORIGINAL-URL:https://www.stlh.org
X-WR-CALDESC:Events for Spirit &amp; Truth Lighthouse
REFRESH-INTERVAL;VALUE=DURATION:PT1H
X-Robots-Tag:noindex
X-PUBLISHED-TTL:PT1H
BEGIN:VTIMEZONE
TZID:America/Denver
BEGIN:DAYLIGHT
TZOFFSETFROM:-0700
TZOFFSETTO:-0600
TZNAME:MDT
DTSTART:20240310T090000
END:DAYLIGHT
BEGIN:STANDARD
TZOFFSETFROM:-0600
TZOFFSETTO:-0700
TZNAME:MST
DTSTART:20241103T080000
END:STANDARD
BEGIN:DAYLIGHT
TZOFFSETFROM:-0700
TZOFFSETTO:-0600
TZNAME:MDT
DTSTART:20250309T090000
END:DAYLIGHT
BEGIN:STANDARD
TZOFFSETFROM:-0600
TZOFFSETTO:-0700
TZNAME:MST
DTSTART:20251102T080000
END:STANDARD
BEGIN:DAYLIGHT
TZOFFSETFROM:-0700
TZOFFSETTO:-0600
TZNAME:MDT
DTSTART:20260308T090000
END:DAYLIGHT
BEGIN:STANDARD
TZOFFSETFROM:-0600
TZOFFSETTO:-0700
TZNAME:MST
DTSTART:20261101T080000
END:STANDARD
END:VTIMEZONE
BEGIN:VEVENT
DTSTART;TZID=America/Denver:20250706T100000
DTEND;TZID=America/Denver:20250706T123000
DTSTAMP:20260424T012112
CREATED:20250706T062955Z
LAST-MODIFIED:20250706T062955Z
UID:1365-1751796000-1751805000@www.stlh.org
SUMMARY:Freedom & Deliverance
DESCRIPTION:Come experience your healing & deliverance!
URL:https://www.stlh.org/event/freedom-deliverance/
LOCATION:Spirit & Truth Lighthouse\, 23455 Madero\, Suite C\, Mission Viejo\, CA\, 92691\, United States
CATEGORIES:Events
ATTACH;FMTTYPE=image/webp:https://www.stlh.org/wp-content/uploads/2025/07/Freedom-and-Deliverance.webp
ORGANIZER;CN="Spirit & Truth Lighthouse":MAILTO:info@stlh.org
END:VEVENT
END:VCALENDAR