BEGIN:VCALENDAR
VERSION:2.0
PRODID:-//Spirit &amp; Truth Lighthouse - ECPv6.15.20//NONSGML v1.0//EN
CALSCALE:GREGORIAN
METHOD:PUBLISH
X-WR-CALNAME:Spirit &amp; Truth Lighthouse
X-ORIGINAL-URL:https://www.stlh.org
X-WR-CALDESC:Events for Spirit &amp; Truth Lighthouse
REFRESH-INTERVAL;VALUE=DURATION:PT1H
X-Robots-Tag:noindex
X-PUBLISHED-TTL:PT1H
BEGIN:VTIMEZONE
TZID:America/Denver
BEGIN:DAYLIGHT
TZOFFSETFROM:-0700
TZOFFSETTO:-0600
TZNAME:MDT
DTSTART:20240310T090000
END:DAYLIGHT
BEGIN:STANDARD
TZOFFSETFROM:-0600
TZOFFSETTO:-0700
TZNAME:MST
DTSTART:20241103T080000
END:STANDARD
BEGIN:DAYLIGHT
TZOFFSETFROM:-0700
TZOFFSETTO:-0600
TZNAME:MDT
DTSTART:20250309T090000
END:DAYLIGHT
BEGIN:STANDARD
TZOFFSETFROM:-0600
TZOFFSETTO:-0700
TZNAME:MST
DTSTART:20251102T080000
END:STANDARD
BEGIN:DAYLIGHT
TZOFFSETFROM:-0700
TZOFFSETTO:-0600
TZNAME:MDT
DTSTART:20260308T090000
END:DAYLIGHT
BEGIN:STANDARD
TZOFFSETFROM:-0600
TZOFFSETTO:-0700
TZNAME:MST
DTSTART:20261101T080000
END:STANDARD
END:VTIMEZONE
BEGIN:VEVENT
DTSTART;TZID=America/Denver:20251026T153000
DTEND;TZID=America/Denver:20251026T180000
DTSTAMP:20260423T182937
CREATED:20250823T203047Z
LAST-MODIFIED:20251004T012205Z
UID:1722-1761492600-1761501600@www.stlh.org
SUMMARY:Buena Park Service - United Apostolic Tabernacle
DESCRIPTION:Service at the Cafeteria! See you at 3:30pm
URL:https://www.stlh.org/event/buena-park-service-united-apostolic-tabernacle-2/
LOCATION:UAT\, 6931 Orangethorpe Ave\, Buena Park\, CA\, 90620\, United States
ATTACH;FMTTYPE=image/webp:https://www.stlh.org/wp-content/uploads/2025/08/UAT-Sunday.webp
END:VEVENT
END:VCALENDAR