BEGIN:VCALENDAR
VERSION:2.0
PRODID:-//Spirit &amp; Truth Lighthouse - ECPv6.15.20//NONSGML v1.0//EN
CALSCALE:GREGORIAN
METHOD:PUBLISH
X-WR-CALNAME:Spirit &amp; Truth Lighthouse
X-ORIGINAL-URL:https://www.stlh.org
X-WR-CALDESC:Events for Spirit &amp; Truth Lighthouse
REFRESH-INTERVAL;VALUE=DURATION:PT1H
X-Robots-Tag:noindex
X-PUBLISHED-TTL:PT1H
BEGIN:VTIMEZONE
TZID:America/Denver
BEGIN:DAYLIGHT
TZOFFSETFROM:-0700
TZOFFSETTO:-0600
TZNAME:MDT
DTSTART:20250309T090000
END:DAYLIGHT
BEGIN:STANDARD
TZOFFSETFROM:-0600
TZOFFSETTO:-0700
TZNAME:MST
DTSTART:20251102T080000
END:STANDARD
BEGIN:DAYLIGHT
TZOFFSETFROM:-0700
TZOFFSETTO:-0600
TZNAME:MDT
DTSTART:20260308T090000
END:DAYLIGHT
BEGIN:STANDARD
TZOFFSETFROM:-0600
TZOFFSETTO:-0700
TZNAME:MST
DTSTART:20261101T080000
END:STANDARD
BEGIN:DAYLIGHT
TZOFFSETFROM:-0700
TZOFFSETTO:-0600
TZNAME:MDT
DTSTART:20270314T090000
END:DAYLIGHT
BEGIN:STANDARD
TZOFFSETFROM:-0600
TZOFFSETTO:-0700
TZNAME:MST
DTSTART:20271107T080000
END:STANDARD
END:VTIMEZONE
BEGIN:VEVENT
DTSTART;TZID=America/Denver:20260129T190000
DTEND;TZID=America/Denver:20260131T100000
DTSTAMP:20260423T153044
CREATED:20250707T005106Z
LAST-MODIFIED:20250707T005106Z
UID:1414-1769713200-1769853600@www.stlh.org
SUMMARY:Warfare & Dominion Conference
DESCRIPTION:It’s time for Spiritual Warfare & exercise our spiritual dominion.
URL:https://www.stlh.org/event/warfare-dominion-conference/
LOCATION:World Alive Revival Center\, Wiggins MS\, 2202 US 49\, Wiggins\, MS\, 39577\, United States
CATEGORIES:Events
ATTACH;FMTTYPE=image/webp:https://www.stlh.org/wp-content/uploads/2025/07/Wiggins2026.webp
END:VEVENT
END:VCALENDAR