BEGIN:VCALENDAR
VERSION:2.0
PRODID:-//Spirit &amp; Truth Lighthouse - ECPv6.15.20//NONSGML v1.0//EN
CALSCALE:GREGORIAN
METHOD:PUBLISH
X-WR-CALNAME:Spirit &amp; Truth Lighthouse
X-ORIGINAL-URL:https://www.stlh.org
X-WR-CALDESC:Events for Spirit &amp; Truth Lighthouse
REFRESH-INTERVAL;VALUE=DURATION:PT1H
X-Robots-Tag:noindex
X-PUBLISHED-TTL:PT1H
BEGIN:VTIMEZONE
TZID:America/Denver
BEGIN:DAYLIGHT
TZOFFSETFROM:-0700
TZOFFSETTO:-0600
TZNAME:MDT
DTSTART:20250309T090000
END:DAYLIGHT
BEGIN:STANDARD
TZOFFSETFROM:-0600
TZOFFSETTO:-0700
TZNAME:MST
DTSTART:20251102T080000
END:STANDARD
BEGIN:DAYLIGHT
TZOFFSETFROM:-0700
TZOFFSETTO:-0600
TZNAME:MDT
DTSTART:20260308T090000
END:DAYLIGHT
BEGIN:STANDARD
TZOFFSETFROM:-0600
TZOFFSETTO:-0700
TZNAME:MST
DTSTART:20261101T080000
END:STANDARD
BEGIN:DAYLIGHT
TZOFFSETFROM:-0700
TZOFFSETTO:-0600
TZNAME:MDT
DTSTART:20270314T090000
END:DAYLIGHT
BEGIN:STANDARD
TZOFFSETFROM:-0600
TZOFFSETTO:-0700
TZNAME:MST
DTSTART:20271107T080000
END:STANDARD
END:VTIMEZONE
BEGIN:VEVENT
DTSTART;TZID=America/Denver:20260219T190000
DTEND;TZID=America/Denver:20260221T190000
DTSTAMP:20260423T134146
CREATED:20250513T063350Z
LAST-MODIFIED:20260121T052650Z
UID:940-1771527600-1771700400@www.stlh.org
SUMMARY:Socal Ladies Conference
DESCRIPTION:Feb. 19th – 21st at the Riverside Convention Center!\nwww.SocalUPCILadies.org \n 
URL:https://www.stlh.org/event/section-3-ladies-conference/
LOCATION:Riverside Convention Center\, 3637 5th St\,\, Riverside\, 92501
ATTACH;FMTTYPE=image/jpeg:https://www.stlh.org/wp-content/uploads/2025/05/Ladies-Conf.jpg
ORGANIZER;CN="Spirit & Truth Lighthouse":MAILTO:info@stlh.org
END:VEVENT
END:VCALENDAR