BEGIN:VCALENDAR
VERSION:2.0
PRODID:-//Spirit &amp; Truth Lighthouse - ECPv6.15.20//NONSGML v1.0//EN
CALSCALE:GREGORIAN
METHOD:PUBLISH
X-ORIGINAL-URL:https://www.stlh.org
X-WR-CALDESC:Events for Spirit &amp; Truth Lighthouse
REFRESH-INTERVAL;VALUE=DURATION:PT1H
X-Robots-Tag:noindex
X-PUBLISHED-TTL:PT1H
BEGIN:VTIMEZONE
TZID:America/Denver
BEGIN:DAYLIGHT
TZOFFSETFROM:-0700
TZOFFSETTO:-0600
TZNAME:MDT
DTSTART:20250309T090000
END:DAYLIGHT
BEGIN:STANDARD
TZOFFSETFROM:-0600
TZOFFSETTO:-0700
TZNAME:MST
DTSTART:20251102T080000
END:STANDARD
BEGIN:DAYLIGHT
TZOFFSETFROM:-0700
TZOFFSETTO:-0600
TZNAME:MDT
DTSTART:20260308T090000
END:DAYLIGHT
BEGIN:STANDARD
TZOFFSETFROM:-0600
TZOFFSETTO:-0700
TZNAME:MST
DTSTART:20261101T080000
END:STANDARD
BEGIN:DAYLIGHT
TZOFFSETFROM:-0700
TZOFFSETTO:-0600
TZNAME:MDT
DTSTART:20270314T090000
END:DAYLIGHT
BEGIN:STANDARD
TZOFFSETFROM:-0600
TZOFFSETTO:-0700
TZNAME:MST
DTSTART:20271107T080000
END:STANDARD
END:VTIMEZONE
BEGIN:VEVENT
DTSTART;TZID=America/Denver:20260307T170000
DTEND;TZID=America/Denver:20260307T193000
DTSTAMP:20260423T120245
CREATED:20260225T055853Z
LAST-MODIFIED:20260225T055853Z
UID:2064-1772902800-1772911800@www.stlh.org
SUMMARY:Hyphen Relaunch
DESCRIPTION:International Pentecostal Church
URL:https://www.stlh.org/event/hyphen-relaunch/
LOCATION:IPC\, 10248 Alondra Blvd.\, Bellflower\, Ca\, 90706
CATEGORIES:Events
ATTACH;FMTTYPE=image/jpeg:https://www.stlh.org/wp-content/uploads/2026/02/Hyphen-Relaunch.jpg
END:VEVENT
END:VCALENDAR