BEGIN:VCALENDAR
VERSION:2.0
PRODID:-//Spirit &amp; Truth Lighthouse - ECPv6.15.20//NONSGML v1.0//EN
CALSCALE:GREGORIAN
METHOD:PUBLISH
X-ORIGINAL-URL:https://www.stlh.org
X-WR-CALDESC:Events for Spirit &amp; Truth Lighthouse
REFRESH-INTERVAL;VALUE=DURATION:PT1H
X-Robots-Tag:noindex
X-PUBLISHED-TTL:PT1H
BEGIN:VTIMEZONE
TZID:America/Denver
BEGIN:DAYLIGHT
TZOFFSETFROM:-0700
TZOFFSETTO:-0600
TZNAME:MDT
DTSTART:20250309T090000
END:DAYLIGHT
BEGIN:STANDARD
TZOFFSETFROM:-0600
TZOFFSETTO:-0700
TZNAME:MST
DTSTART:20251102T080000
END:STANDARD
BEGIN:DAYLIGHT
TZOFFSETFROM:-0700
TZOFFSETTO:-0600
TZNAME:MDT
DTSTART:20260308T090000
END:DAYLIGHT
BEGIN:STANDARD
TZOFFSETFROM:-0600
TZOFFSETTO:-0700
TZNAME:MST
DTSTART:20261101T080000
END:STANDARD
BEGIN:DAYLIGHT
TZOFFSETFROM:-0700
TZOFFSETTO:-0600
TZNAME:MDT
DTSTART:20270314T090000
END:DAYLIGHT
BEGIN:STANDARD
TZOFFSETFROM:-0600
TZOFFSETTO:-0700
TZNAME:MST
DTSTART:20271107T080000
END:STANDARD
END:VTIMEZONE
BEGIN:VEVENT
DTSTART;TZID=America/Denver:20260403T190000
DTEND;TZID=America/Denver:20260403T213000
DTSTAMP:20260423T102832
CREATED:20250706T065650Z
LAST-MODIFIED:20260328T042336Z
UID:1383-1775242800-1775251800@www.stlh.org
SUMMARY:Connect Group - San Juan Capistrano
DESCRIPTION:Connect with a local group of believers that meets in the City of San Juan Capistrano.
URL:https://www.stlh.org/event/san-juan-capistrano-connect-group/
LOCATION:San Juan Capistrano Connect\, 33634 Avenida Calita\, San Juan Capistrano\, CA\, 92675\, United States
CATEGORIES:Events
ATTACH;FMTTYPE=image/png:https://www.stlh.org/wp-content/uploads/2025/07/connect.png
END:VEVENT
END:VCALENDAR