BEGIN:VCALENDAR
VERSION:2.0
PRODID:-//Spirit &amp; Truth Lighthouse - ECPv6.15.20//NONSGML v1.0//EN
CALSCALE:GREGORIAN
METHOD:PUBLISH
X-ORIGINAL-URL:https://www.stlh.org
X-WR-CALDESC:Events for Spirit &amp; Truth Lighthouse
REFRESH-INTERVAL;VALUE=DURATION:PT1H
X-Robots-Tag:noindex
X-PUBLISHED-TTL:PT1H
BEGIN:VTIMEZONE
TZID:America/Denver
BEGIN:DAYLIGHT
TZOFFSETFROM:-0700
TZOFFSETTO:-0600
TZNAME:MDT
DTSTART:20250309T090000
END:DAYLIGHT
BEGIN:STANDARD
TZOFFSETFROM:-0600
TZOFFSETTO:-0700
TZNAME:MST
DTSTART:20251102T080000
END:STANDARD
BEGIN:DAYLIGHT
TZOFFSETFROM:-0700
TZOFFSETTO:-0600
TZNAME:MDT
DTSTART:20260308T090000
END:DAYLIGHT
BEGIN:STANDARD
TZOFFSETFROM:-0600
TZOFFSETTO:-0700
TZNAME:MST
DTSTART:20261101T080000
END:STANDARD
BEGIN:DAYLIGHT
TZOFFSETFROM:-0700
TZOFFSETTO:-0600
TZNAME:MDT
DTSTART:20270314T090000
END:DAYLIGHT
BEGIN:STANDARD
TZOFFSETFROM:-0600
TZOFFSETTO:-0700
TZNAME:MST
DTSTART:20271107T080000
END:STANDARD
END:VTIMEZONE
BEGIN:VEVENT
DTSTART;TZID=America/Denver:20260408T190000
DTEND;TZID=America/Denver:20260408T203000
DTSTAMP:20260423T115959
CREATED:20250730T062122Z
LAST-MODIFIED:20260328T042446Z
UID:1503-1775674800-1775680200@www.stlh.org
SUMMARY:Wed - Prayer Service
DESCRIPTION:His House is still called a House of Prayer! Join us for a powerful prayer service!!
URL:https://www.stlh.org/event/wed-prayer-service/
LOCATION:Spirit & Truth Lighthouse\, 23455 Madero\, Suite C\, Mission Viejo\, CA\, 92691\, United States
ATTACH;FMTTYPE=image/jpeg:https://www.stlh.org/wp-content/uploads/2025/07/Kingdom-First-Prayers.jpg
END:VEVENT
END:VCALENDAR