BEGIN:VCALENDAR
VERSION:2.0
PRODID:-//Spirit &amp; Truth Lighthouse - ECPv6.15.20//NONSGML v1.0//EN
CALSCALE:GREGORIAN
METHOD:PUBLISH
X-WR-CALNAME:Spirit &amp; Truth Lighthouse
X-ORIGINAL-URL:https://www.stlh.org
X-WR-CALDESC:Events for Spirit &amp; Truth Lighthouse
REFRESH-INTERVAL;VALUE=DURATION:PT1H
X-Robots-Tag:noindex
X-PUBLISHED-TTL:PT1H
BEGIN:VTIMEZONE
TZID:America/Denver
BEGIN:DAYLIGHT
TZOFFSETFROM:-0700
TZOFFSETTO:-0600
TZNAME:MDT
DTSTART:20250309T090000
END:DAYLIGHT
BEGIN:STANDARD
TZOFFSETFROM:-0600
TZOFFSETTO:-0700
TZNAME:MST
DTSTART:20251102T080000
END:STANDARD
BEGIN:DAYLIGHT
TZOFFSETFROM:-0700
TZOFFSETTO:-0600
TZNAME:MDT
DTSTART:20260308T090000
END:DAYLIGHT
BEGIN:STANDARD
TZOFFSETFROM:-0600
TZOFFSETTO:-0700
TZNAME:MST
DTSTART:20261101T080000
END:STANDARD
BEGIN:DAYLIGHT
TZOFFSETFROM:-0700
TZOFFSETTO:-0600
TZNAME:MDT
DTSTART:20270314T090000
END:DAYLIGHT
BEGIN:STANDARD
TZOFFSETFROM:-0600
TZOFFSETTO:-0700
TZNAME:MST
DTSTART:20271107T080000
END:STANDARD
END:VTIMEZONE
BEGIN:VEVENT
DTSTART;VALUE=DATE:20260416
DTEND;VALUE=DATE:20260419
DTSTAMP:20260423T102700
CREATED:20260203T192055Z
LAST-MODIFIED:20260227T071807Z
UID:2051-1776297600-1776556799@www.stlh.org
SUMMARY:National Filipino Evangelism Conference
DESCRIPTION:Join us for the National Filipino Conference – www.FilipinoEvangelism.com
URL:https://www.stlh.org/event/national-filipino-evangelism-conference/
CATEGORIES:Events
ATTACH;FMTTYPE=image/jpeg:https://www.stlh.org/wp-content/uploads/2026/02/FEMSched2.jpg
ORGANIZER;CN="Spirit & Truth Lighthouse":MAILTO:info@stlh.org
END:VEVENT
BEGIN:VEVENT
DTSTART;TZID=America/Denver:20260416T190000
DTEND;TZID=America/Denver:20260416T203000
DTSTAMP:20260423T102700
CREATED:20250706T065025Z
LAST-MODIFIED:20260328T042637Z
UID:1379-1776366000-1776371400@www.stlh.org
SUMMARY:Thursday's - A Call to Prayer!
DESCRIPTION:A time dedicated to prayer. Come & seek His face!
URL:https://www.stlh.org/event/thursdays-a-call-to-prayer/
LOCATION:Spirit & Truth Lighthouse\, 23455 Madero\, Suite C\, Mission Viejo\, CA\, 92691\, United States
CATEGORIES:Events
ATTACH;FMTTYPE=image/jpeg:https://www.stlh.org/wp-content/uploads/2025/07/Thurs-Prayer-Slide.jpg
END:VEVENT
END:VCALENDAR