BEGIN:VCALENDAR
VERSION:2.0
PRODID:-//Spirit &amp; Truth Lighthouse - ECPv6.15.20//NONSGML v1.0//EN
CALSCALE:GREGORIAN
METHOD:PUBLISH
X-ORIGINAL-URL:https://www.stlh.org
X-WR-CALDESC:Events for Spirit &amp; Truth Lighthouse
REFRESH-INTERVAL;VALUE=DURATION:PT1H
X-Robots-Tag:noindex
X-PUBLISHED-TTL:PT1H
BEGIN:VTIMEZONE
TZID:America/Denver
BEGIN:DAYLIGHT
TZOFFSETFROM:-0700
TZOFFSETTO:-0600
TZNAME:MDT
DTSTART:20250309T090000
END:DAYLIGHT
BEGIN:STANDARD
TZOFFSETFROM:-0600
TZOFFSETTO:-0700
TZNAME:MST
DTSTART:20251102T080000
END:STANDARD
BEGIN:DAYLIGHT
TZOFFSETFROM:-0700
TZOFFSETTO:-0600
TZNAME:MDT
DTSTART:20260308T090000
END:DAYLIGHT
BEGIN:STANDARD
TZOFFSETFROM:-0600
TZOFFSETTO:-0700
TZNAME:MST
DTSTART:20261101T080000
END:STANDARD
BEGIN:DAYLIGHT
TZOFFSETFROM:-0700
TZOFFSETTO:-0600
TZNAME:MDT
DTSTART:20270314T090000
END:DAYLIGHT
BEGIN:STANDARD
TZOFFSETFROM:-0600
TZOFFSETTO:-0700
TZNAME:MST
DTSTART:20271107T080000
END:STANDARD
END:VTIMEZONE
BEGIN:VTIMEZONE
TZID:America/Los_Angeles
BEGIN:DAYLIGHT
TZOFFSETFROM:-0800
TZOFFSETTO:-0700
TZNAME:PDT
DTSTART:20250309T100000
END:DAYLIGHT
BEGIN:STANDARD
TZOFFSETFROM:-0700
TZOFFSETTO:-0800
TZNAME:PST
DTSTART:20251102T090000
END:STANDARD
BEGIN:DAYLIGHT
TZOFFSETFROM:-0800
TZOFFSETTO:-0700
TZNAME:PDT
DTSTART:20260308T100000
END:DAYLIGHT
BEGIN:STANDARD
TZOFFSETFROM:-0700
TZOFFSETTO:-0800
TZNAME:PST
DTSTART:20261101T090000
END:STANDARD
BEGIN:DAYLIGHT
TZOFFSETFROM:-0800
TZOFFSETTO:-0700
TZNAME:PDT
DTSTART:20270314T100000
END:DAYLIGHT
BEGIN:STANDARD
TZOFFSETFROM:-0700
TZOFFSETTO:-0800
TZNAME:PST
DTSTART:20271107T090000
END:STANDARD
END:VTIMEZONE
BEGIN:VEVENT
DTSTART;TZID=America/Denver:20260510T100000
DTEND;TZID=America/Denver:20260510T120000
DTSTAMP:20260423T171047
CREATED:20250513T064452Z
LAST-MODIFIED:20260321T034648Z
UID:943-1778407200-1778414400@www.stlh.org
SUMMARY:Special Mothers Day!
DESCRIPTION:Enjoy a special service\, a meal & a gift!
URL:https://www.stlh.org/event/special-mothers-day-service/
LOCATION:Spirit & Truth Lighthouse\, 23455 Madero\, Suite C\, Mission Viejo\, CA\, 92691\, United States
CATEGORIES:Events
ATTACH;FMTTYPE=image/webp:https://www.stlh.org/wp-content/uploads/2025/05/Mothers-Day-N-L.webp
ORGANIZER;CN="Spirit & Truth Lighthouse":MAILTO:info@stlh.org
END:VEVENT
BEGIN:VEVENT
DTSTART;TZID=America/Denver:20260524T100000
DTEND;TZID=America/Denver:20260524T130000
DTSTAMP:20260423T171047
CREATED:20260208T165822Z
LAST-MODIFIED:20260320T201910Z
UID:2056-1779616800-1779627600@www.stlh.org
SUMMARY:Pentecost & Memorial Sunday
DESCRIPTION:Join us for a fun service outdoors! There will be BBQ\, Kids Games\, Grocery Giveaways and more! \nRegister to receive your free groceries!! Send us an email.
URL:https://www.stlh.org/event/memorial-day-service-at-el-toro-park/
LOCATION:Spirit & Truth Lighthouse\, 23455 Madero\, Suite C\, Mission Viejo\, CA\, 92691\, United States
CATEGORIES:Events
ATTACH;FMTTYPE=image/png:https://www.stlh.org/wp-content/uploads/2026/02/PentecostMemorialSunday.png
END:VEVENT
BEGIN:VEVENT
DTSTART;TZID=America/Los_Angeles:20260526T080000
DTEND;TZID=America/Los_Angeles:20260529T170000
DTSTAMP:20260423T171047
CREATED:20260227T065150Z
LAST-MODIFIED:20260306T231450Z
UID:2070-1779782400-1780074000@www.stlh.org
SUMMARY:Camp Meeting and Outreach Training
DESCRIPTION:Save the Date – Venue in Downtown Los Angeles \nMay 28th – 29th Camp Mtg Services
URL:https://www.stlh.org/event/camp-meeting-and-outreach-training/
LOCATION:CA
END:VEVENT
BEGIN:VEVENT
DTSTART;TZID=America/Denver:20260905T140000
DTEND;TZID=America/Denver:20260905T180000
DTSTAMP:20260423T171047
CREATED:20250730T064922Z
LAST-MODIFIED:20260208T165959Z
UID:1519-1788616800-1788631200@www.stlh.org
SUMMARY:Outreach - The Hope Event
DESCRIPTION:Join us for an outreach in Long Beach for The Hope Event!
URL:https://www.stlh.org/event/outreach-the-hope-event/
LOCATION:Kimball Park\, 12 Street and D Avenue\, National City\, CA\, 91950\, United States
CATEGORIES:Events
ATTACH;FMTTYPE=image/webp:https://www.stlh.org/wp-content/uploads/2025/07/The-Hope-Event.webp
END:VEVENT
BEGIN:VEVENT
DTSTART;TZID=America/Los_Angeles:20261016T190000
DTEND;TZID=America/Los_Angeles:20261017T110000
DTSTAMP:20260423T171047
CREATED:20260306T231316Z
LAST-MODIFIED:20260306T231316Z
UID:2076-1792177200-1792234800@www.stlh.org
SUMMARY:Leadership Training with Bishop Mike Dobbs
DESCRIPTION:
URL:https://www.stlh.org/event/leadership-training-with-bishop-mike-dobbs/
LOCATION:CA
ATTACH;FMTTYPE=image/jpeg:https://www.stlh.org/wp-content/uploads/2026/03/Mike-Dobbs.jpg
END:VEVENT
END:VCALENDAR