BEGIN:VCALENDAR
VERSION:2.0
PRODID:-//Spirit &amp; Truth Lighthouse - ECPv6.15.20//NONSGML v1.0//EN
CALSCALE:GREGORIAN
METHOD:PUBLISH
X-WR-CALNAME:Spirit &amp; Truth Lighthouse
X-ORIGINAL-URL:https://www.stlh.org
X-WR-CALDESC:Events for Spirit &amp; Truth Lighthouse
REFRESH-INTERVAL;VALUE=DURATION:PT1H
X-Robots-Tag:noindex
X-PUBLISHED-TTL:PT1H
BEGIN:VTIMEZONE
TZID:America/Denver
BEGIN:DAYLIGHT
TZOFFSETFROM:-0700
TZOFFSETTO:-0600
TZNAME:MDT
DTSTART:20240310T090000
END:DAYLIGHT
BEGIN:STANDARD
TZOFFSETFROM:-0600
TZOFFSETTO:-0700
TZNAME:MST
DTSTART:20241103T080000
END:STANDARD
BEGIN:DAYLIGHT
TZOFFSETFROM:-0700
TZOFFSETTO:-0600
TZNAME:MDT
DTSTART:20250309T090000
END:DAYLIGHT
BEGIN:STANDARD
TZOFFSETFROM:-0600
TZOFFSETTO:-0700
TZNAME:MST
DTSTART:20251102T080000
END:STANDARD
BEGIN:DAYLIGHT
TZOFFSETFROM:-0700
TZOFFSETTO:-0600
TZNAME:MDT
DTSTART:20260308T090000
END:DAYLIGHT
BEGIN:STANDARD
TZOFFSETFROM:-0600
TZOFFSETTO:-0700
TZNAME:MST
DTSTART:20261101T080000
END:STANDARD
END:VTIMEZONE
BEGIN:VEVENT
DTSTART;TZID=America/Denver:20250515T190000
DTEND;TZID=America/Denver:20250515T200000
DTSTAMP:20260424T044356
CREATED:20250513T042348Z
LAST-MODIFIED:20250513T201136Z
UID:929-1747335600-1747339200@www.stlh.org
SUMMARY:Prayer Meeting
DESCRIPTION:
URL:https://www.stlh.org/event/prayer-meeting/
LOCATION:Spirit & Truth Lighthouse\, 23455 Madero\, Suite C\, Mission Viejo\, CA\, 92691\, United States
CATEGORIES:Events
ORGANIZER;CN="Spirit & Truth Lighthouse":MAILTO:info@stlh.org
END:VEVENT
BEGIN:VEVENT
DTSTART;TZID=America/Denver:20250508T190000
DTEND;TZID=America/Denver:20250508T200000
DTSTAMP:20260424T044356
CREATED:20250513T064832Z
LAST-MODIFIED:20250513T064832Z
UID:949-1746730800-1746734400@www.stlh.org
SUMMARY:Prayer Meeting
DESCRIPTION:
URL:https://www.stlh.org/event/prayer-meeting-2/
LOCATION:Spirit & Truth Lighthouse\, 23455 Madero\, Suite C\, Mission Viejo\, CA\, 92691\, United States
ORGANIZER;CN="Spirit & Truth Lighthouse":MAILTO:info@stlh.org
END:VEVENT
BEGIN:VEVENT
DTSTART;TZID=America/Denver:20250504T100000
DTEND;TZID=America/Denver:20250504T120000
DTSTAMP:20260424T044356
CREATED:20250513T063154Z
LAST-MODIFIED:20250513T063154Z
UID:937-1746352800-1746360000@www.stlh.org
SUMMARY:Word of Light Service
DESCRIPTION:
URL:https://www.stlh.org/event/word-of-light-service/
LOCATION:Spirit & Truth Lighthouse\, 23455 Madero\, Suite C\, Mission Viejo\, CA\, 92691\, United States
ORGANIZER;CN="Spirit & Truth Lighthouse":MAILTO:info@stlh.org
END:VEVENT
BEGIN:VEVENT
DTSTART;TZID=America/Denver:20250501T190000
DTEND;TZID=America/Denver:20250501T210000
DTSTAMP:20260424T044356
CREATED:20250513T043320Z
LAST-MODIFIED:20250513T043320Z
UID:934-1746126000-1746133200@www.stlh.org
SUMMARY:National Day of Prayer
DESCRIPTION:
URL:https://www.stlh.org/event/national-day-of-prayer/
LOCATION:Mission Veijo Christian Church\, 27192 Jeronimo Rd\, Mission Viejo\, CA\, 92692\, United States
ORGANIZER;CN="Spirit & Truth Lighthouse":MAILTO:info@stlh.org
END:VEVENT
BEGIN:VEVENT
DTSTART;VALUE=DATE:20250313
DTEND;VALUE=DATE:20250316
DTSTAMP:20260424T044356
CREATED:20250508T201819Z
LAST-MODIFIED:20250509T171410Z
UID:653-1741824000-1742083199@www.stlh.org
SUMMARY:PâS Escondido March 2025
DESCRIPTION:
URL:https://www.stlh.org/event/pas-escondido-march-2025/
LOCATION:CA
CATEGORIES:Events
ATTACH;FMTTYPE=image/webp:https://www.stlh.org/wp-content/uploads/2025/05/image-1.webp
END:VEVENT
BEGIN:VEVENT
DTSTART;VALUE=DATE:20250130
DTEND;VALUE=DATE:20250202
DTSTAMP:20260424T044356
CREATED:20250508T201611Z
LAST-MODIFIED:20250509T171420Z
UID:645-1738195200-1738454399@www.stlh.org
SUMMARY:Spiritual Warfare & Dominion
DESCRIPTION:
URL:https://www.stlh.org/event/spiritual-warfare-dominion-jan-2025/
LOCATION:World Alive Revival Center\, Wiggins MS\, 2202 US 49\, Wiggins\, MS\, 39577\, United States
CATEGORIES:Events
ATTACH;FMTTYPE=image/jpeg:https://www.stlh.org/wp-content/uploads/2025/05/image.jpeg
END:VEVENT
END:VCALENDAR