BEGIN:VCALENDAR
VERSION:2.0
PRODID:-//Spirit &amp; Truth Lighthouse - ECPv6.15.20//NONSGML v1.0//EN
CALSCALE:GREGORIAN
METHOD:PUBLISH
X-WR-CALNAME:Spirit &amp; Truth Lighthouse
X-ORIGINAL-URL:https://www.stlh.org
X-WR-CALDESC:Events for Spirit &amp; Truth Lighthouse
REFRESH-INTERVAL;VALUE=DURATION:PT1H
X-Robots-Tag:noindex
X-PUBLISHED-TTL:PT1H
BEGIN:VTIMEZONE
TZID:America/Denver
BEGIN:DAYLIGHT
TZOFFSETFROM:-0700
TZOFFSETTO:-0600
TZNAME:MDT
DTSTART:20240310T090000
END:DAYLIGHT
BEGIN:STANDARD
TZOFFSETFROM:-0600
TZOFFSETTO:-0700
TZNAME:MST
DTSTART:20241103T080000
END:STANDARD
BEGIN:DAYLIGHT
TZOFFSETFROM:-0700
TZOFFSETTO:-0600
TZNAME:MDT
DTSTART:20250309T090000
END:DAYLIGHT
BEGIN:STANDARD
TZOFFSETFROM:-0600
TZOFFSETTO:-0700
TZNAME:MST
DTSTART:20251102T080000
END:STANDARD
BEGIN:DAYLIGHT
TZOFFSETFROM:-0700
TZOFFSETTO:-0600
TZNAME:MDT
DTSTART:20260308T090000
END:DAYLIGHT
BEGIN:STANDARD
TZOFFSETFROM:-0600
TZOFFSETTO:-0700
TZNAME:MST
DTSTART:20261101T080000
END:STANDARD
END:VTIMEZONE
BEGIN:VEVENT
DTSTART;TZID=America/Denver:20251114T190000
DTEND;TZID=America/Denver:20251114T213000
DTSTAMP:20260423T170551
CREATED:20250706T070650Z
LAST-MODIFIED:20251024T221416Z
UID:1393-1763146800-1763155800@www.stlh.org
SUMMARY:Connect Group - Mission Viejo
DESCRIPTION:Connect with a group of believers that meets in the City of Mission Viejo!
URL:https://www.stlh.org/event/mission-viejo-connect-group/
LOCATION:MV Connect\, 23825 Calle Hogar\, Mission Viejo\, CA\, 92691\, United States
CATEGORIES:Events
ATTACH;FMTTYPE=image/webp:https://www.stlh.org/wp-content/uploads/2025/07/connect.webp
END:VEVENT
BEGIN:VEVENT
DTSTART;VALUE=DATE:20251118
DTEND;VALUE=DATE:20251122
DTSTAMP:20260423T170551
CREATED:20250508T202244Z
LAST-MODIFIED:20250509T171414Z
UID:658-1763424000-1763769599@www.stlh.org
SUMMARY:National PàS Meeting 2025
DESCRIPTION:
URL:https://www.stlh.org/event/national-pas-meeting-2025/
LOCATION:Antioch\, the Apostolic Church\, 1535 Ritchie Highway\, Arnold\, MD\, 21012\, United States
CATEGORIES:Events
ATTACH;FMTTYPE=image/webp:https://www.stlh.org/wp-content/uploads/2025/05/image-1.webp
END:VEVENT
BEGIN:VEVENT
DTSTART;TZID=America/Denver:20251123T100000
DTEND;TZID=America/Denver:20251123T140000
DTSTAMP:20260423T170551
CREATED:20251018T203912Z
LAST-MODIFIED:20251018T203956Z
UID:1883-1763892000-1763906400@www.stlh.org
SUMMARY:Thanksgiving Service
DESCRIPTION:Come & enjoy a thanksgiving service & meal at the Lighthouse! Bring a friend.
URL:https://www.stlh.org/event/thanksgiving-service/
LOCATION:Spirit & Truth Lighthouse\, 23455 Madero\, Suite C\, Mission Viejo\, CA\, 92691\, United States
CATEGORIES:Events
ATTACH;FMTTYPE=image/png:https://www.stlh.org/wp-content/uploads/2025/10/Thanksgiving4x6.png
END:VEVENT
END:VCALENDAR