BEGIN:VCALENDAR
VERSION:2.0
PRODID:-//Spirit &amp; Truth Lighthouse - ECPv6.15.20//NONSGML v1.0//EN
CALSCALE:GREGORIAN
METHOD:PUBLISH
X-ORIGINAL-URL:https://www.stlh.org
X-WR-CALDESC:Events for Spirit &amp; Truth Lighthouse
REFRESH-INTERVAL;VALUE=DURATION:PT1H
X-Robots-Tag:noindex
X-PUBLISHED-TTL:PT1H
BEGIN:VTIMEZONE
TZID:America/Denver
BEGIN:DAYLIGHT
TZOFFSETFROM:-0700
TZOFFSETTO:-0600
TZNAME:MDT
DTSTART:20250309T090000
END:DAYLIGHT
BEGIN:STANDARD
TZOFFSETFROM:-0600
TZOFFSETTO:-0700
TZNAME:MST
DTSTART:20251102T080000
END:STANDARD
BEGIN:DAYLIGHT
TZOFFSETFROM:-0700
TZOFFSETTO:-0600
TZNAME:MDT
DTSTART:20260308T090000
END:DAYLIGHT
BEGIN:STANDARD
TZOFFSETFROM:-0600
TZOFFSETTO:-0700
TZNAME:MST
DTSTART:20261101T080000
END:STANDARD
BEGIN:DAYLIGHT
TZOFFSETFROM:-0700
TZOFFSETTO:-0600
TZNAME:MDT
DTSTART:20270314T090000
END:DAYLIGHT
BEGIN:STANDARD
TZOFFSETFROM:-0600
TZOFFSETTO:-0700
TZNAME:MST
DTSTART:20271107T080000
END:STANDARD
END:VTIMEZONE
BEGIN:VEVENT
DTSTART;TZID=America/Denver:20260423T190000
DTEND;TZID=America/Denver:20260423T203000
DTSTAMP:20260423T102634
CREATED:20250823T074703Z
LAST-MODIFIED:20260328T043043Z
UID:1698-1776970800-1776976200@www.stlh.org
SUMMARY:Thursday's - A Call to Prayer!
DESCRIPTION:A time dedicated to prayer. Come & seek His face!
URL:https://www.stlh.org/event/thursdays-a-call-to-prayer-3/
LOCATION:Spirit & Truth Lighthouse\, 23455 Madero\, Suite C\, Mission Viejo\, CA\, 92691\, United States
CATEGORIES:Events
ATTACH;FMTTYPE=image/jpeg:https://www.stlh.org/wp-content/uploads/2025/07/Thurs-Prayer-Slide.jpg
END:VEVENT
BEGIN:VEVENT
DTSTART;TZID=America/Denver:20260426T100000
DTEND;TZID=America/Denver:20260426T123000
DTSTAMP:20260423T102634
CREATED:20250706T063929Z
LAST-MODIFIED:20260328T043144Z
UID:1371-1777197600-1777206600@www.stlh.org
SUMMARY:Bilingual Service
DESCRIPTION:Join us for a Bilingual Spanish-English service! It will be fun!!
URL:https://www.stlh.org/event/bilingual-service-w-bro-ariel-lopez/
LOCATION:Spirit & Truth Lighthouse\, 23455 Madero\, Suite C\, Mission Viejo\, CA\, 92691\, United States
CATEGORIES:Events
ATTACH;FMTTYPE=image/png:https://www.stlh.org/wp-content/uploads/2025/08/Bilingual.png
END:VEVENT
BEGIN:VEVENT
DTSTART;TZID=America/Denver:20260427T190000
DTEND;TZID=America/Denver:20260427T210000
DTSTAMP:20260423T102634
CREATED:20250706T070907Z
LAST-MODIFIED:20260328T043226Z
UID:1396-1777316400-1777323600@www.stlh.org
SUMMARY:Multicultural Connect Group
DESCRIPTION:Join a multicultural group of believers that meets in the City of Lake Forest!
URL:https://www.stlh.org/event/multicultural-connect/
LOCATION:MC Connect\, 22521 Overlake Drive\, Lake Forest\, CA\, 92630\, United States
CATEGORIES:Events
ATTACH;FMTTYPE=image/webp:https://www.stlh.org/wp-content/uploads/2025/07/connect.webp
END:VEVENT
BEGIN:VEVENT
DTSTART;TZID=America/Denver:20260429T190000
DTEND;TZID=America/Denver:20260429T203000
DTSTAMP:20260423T102634
CREATED:20251026T063029Z
LAST-MODIFIED:20260328T043312Z
UID:1895-1777489200-1777494600@www.stlh.org
SUMMARY:Wed - Prayer Service
DESCRIPTION:His House is still called a House of Prayer! Join us for a powerful prayer service!!
URL:https://www.stlh.org/event/wed-prayer-service-2/
LOCATION:Spirit & Truth Lighthouse\, 23455 Madero\, Suite C\, Mission Viejo\, CA\, 92691\, United States
CATEGORIES:Events
ATTACH;FMTTYPE=image/jpeg:https://www.stlh.org/wp-content/uploads/2025/07/Kingdom-First-Prayers.jpg
END:VEVENT
END:VCALENDAR